BEGIN:VCALENDAR
VERSION:2.0
PRODID:-//Center for Smart Streetscapes - ECPv6.15.20//NONSGML v1.0//EN
CALSCALE:GREGORIAN
METHOD:PUBLISH
X-ORIGINAL-URL:https://cs3-erc.org
X-WR-CALDESC:Events for Center for Smart Streetscapes
REFRESH-INTERVAL;VALUE=DURATION:PT1H
X-Robots-Tag:noindex
X-PUBLISHED-TTL:PT1H
BEGIN:VTIMEZONE
TZID:America/New_York
BEGIN:DAYLIGHT
TZOFFSETFROM:-0500
TZOFFSETTO:-0400
TZNAME:EDT
DTSTART:20240310T070000
END:DAYLIGHT
BEGIN:STANDARD
TZOFFSETFROM:-0400
TZOFFSETTO:-0500
TZNAME:EST
DTSTART:20241103T060000
END:STANDARD
BEGIN:DAYLIGHT
TZOFFSETFROM:-0500
TZOFFSETTO:-0400
TZNAME:EDT
DTSTART:20250309T070000
END:DAYLIGHT
BEGIN:STANDARD
TZOFFSETFROM:-0400
TZOFFSETTO:-0500
TZNAME:EST
DTSTART:20251102T060000
END:STANDARD
BEGIN:DAYLIGHT
TZOFFSETFROM:-0500
TZOFFSETTO:-0400
TZNAME:EDT
DTSTART:20260308T070000
END:DAYLIGHT
BEGIN:STANDARD
TZOFFSETFROM:-0400
TZOFFSETTO:-0500
TZNAME:EST
DTSTART:20261101T060000
END:STANDARD
END:VTIMEZONE
BEGIN:VEVENT
DTSTART;TZID=America/New_York:20250127T090000
DTEND;TZID=America/New_York:20250127T120000
DTSTAMP:20260420T093450
CREATED:20250109T200106Z
LAST-MODIFIED:20250109T200106Z
UID:4569-1737968400-1737979200@cs3-erc.org
SUMMARY:CS3 Teacher Professional Development Workshop
DESCRIPTION:Join the Center for Smart Streetscapes (CS3) for a half-day workshop designed to connect NYC educators with cutting-edge research in smart streetscape technologies. Learn about CS3’s innovative work\, explore the Summer Research Experience for Teachers (RET) program\, and brainstorm ways to bring these ideas into your classroom. Optional lab tours at Columbia University will showcase the latest in urban tech research. Don’t miss this chance to grow as an educator and inspire your students with real-world STEM applications! \nEvent Details:\n📅 Date: Monday\, January 27\, 2025\n🕗 Time: 9AM – 12PM\n📍 Location: Columbia University (specific location shared upon registration) \nLunch will be provided! \nThis workshop is invite-only. If you are interested in attending this workshop or learning more about CS3’s Research Experience for Teachers (RET) program\, please contact our team at streetscapes@columbia.edu.
URL:https://cs3-erc.org/event/cs3-teacher-professional-development-workshop/
LOCATION:Columbia University
CATEGORIES:Education
ATTACH;FMTTYPE=image/png:https://cs3-erc.org/wp-content/uploads/2025/01/1.27.25-CS3-Teacher-Professional-Development-Workshop-e1736452771962.png
END:VEVENT
END:VCALENDAR